BEGIN:VCALENDAR
VERSION:2.0
PRODID:-//William Alanson White Institute - ECPv6.0.11//NONSGML v1.0//EN
CALSCALE:GREGORIAN
METHOD:PUBLISH
X-ORIGINAL-URL:https://wawhite.org
X-WR-CALDESC:Events for William Alanson White Institute
REFRESH-INTERVAL;VALUE=DURATION:PT1H
X-Robots-Tag:noindex
X-PUBLISHED-TTL:PT1H
BEGIN:VTIMEZONE
TZID:America/New_York
BEGIN:DAYLIGHT
TZOFFSETFROM:-0500
TZOFFSETTO:-0400
TZNAME:EDT
DTSTART:20260308T070000
END:DAYLIGHT
BEGIN:STANDARD
TZOFFSETFROM:-0400
TZOFFSETTO:-0500
TZNAME:EST
DTSTART:20261101T060000
END:STANDARD
END:VTIMEZONE
BEGIN:VEVENT
DTSTART;TZID=America/New_York:20260304T193000
DTEND;TZID=America/New_York:20260304T213000
DTSTAMP:20260424T121041
CREATED:20260212T200016Z
LAST-MODIFIED:20260213T204944Z
UID:10000196-1772652600-1772659800@wawhite.org
SUMMARY:The Psychoanalytic Training Program Special Open House
DESCRIPTION:The Psychoanalytic Training Program \nA SPECIAL OPEN HOUSE \nWEDNESDAY EVENING\, MARCH 4th\n7:30-9:30pm\nTHE CASE FOR PSYCHOANALYSIS: \nA cohort of graduates reflects upon the influence of psychoanalytic training on personal and professional evolutions.\nWith David C. Banthin\, PhD\, Tomás Casado-Frankel\, LMFT-D\, LP\, John Eastman\, LCSW\, Dan Liu\, LCSW\, Mary Olsen\, LCSW\, Josh Yoselovsky\, LCSW\nHeld In Person at the Institute: 20 West 74th Street between Central Park West & Columbus Avenue\n\n  \nABOUT THE EVENING\nA clinical case will be presented\, followed by discussion with our panel of graduates – who together went through the training program and have gone on to build their practices.\nAttendees will be invited to join the discussion for the experience of a cohort peer supervision\, and will be encouraged to ask questions about the case\, the program\, and our Institute. Light refreshments will be available.\nJoin us!\n  \nABOUT OUR PANELISTS\nDavid C. Banthin\, PhD\, is an Assistant Professor in the Department of Psychiatry at the Icahn School of Medicine at Mount Sinai and Faculty at the William Alanson White Institute. He earned his doctoral degree from the New School for Social Research and completed fellowships and postdoctoral certificates at Columbia University Center for Psychoanalytic Training and Research\, Mount Sinai/Mental Illness Research and Clinical Center at the Department of Veteran Affairs\, Behavioral Tech for Dialectical Behavioral Therapy\, and psychoanalytic training at WAWI. He has engaged in psychotherapy research in psychodynamic and behavioral treatment modalities for 15+ years with a focus on the therapeutic relationship and personality disorders. \nTomás Casado-Frankel\, MA\, LMFT-D\, LP\,  is the Director of Outreach and Recruitment\, a Supervisor of Psychotherapy\, and a graduate of both the WAWI Psychoanalytic Training Program and the Child and Adolescent Psychotherapy Training Program. He is co-author of Early Relational Trauma and the Development of Self\, published by Routledge in 2022. He is in private practice in NYC. \nDan Liu\, LCSW\,  is a graduate of the William Alanson White Institute. She is a Licensed Clinical Social Worker and Psychoanalyst practicing in New York City. Originally from Shenzhen\, China\, Dan brings a multicultural perspective to her work and provides therapy in English\, Mandarin and Cantonese. \nMary Olsen\, LCSW\,  worked at the Mount Sinai Medical Center in the Employee Assistance Program before completing her training at the William Alanson White Institute. Mary is a Supervisor of Psychotherapy at WAWI and credits her psychoanalytic training for her seamless transition into full time private practice. Prior to earning her MSW\, she founded and ran a technology consulting practice.\n\nJosh Yoselovsky\, LCSW\,  completed his psychoanalytic training at the William Alanson White Institute in 2021\, and is on its faculty\, as well as that of the National Institute for the Psychotherapies. Josh is also an adjunct instructor at Fordham University’s Graduate School for Social Service. His academic and clinical interests focus on early Interpersonal thinking and literature\, as well as on the intersection of theater\, performance\, and psychoanalysis.
URL:https://wawhite.org/event/the-psychoanalytic-training-program-special-open-house/
CATEGORIES:Members Events,Modern Layout,Public
ATTACH;FMTTYPE=image/jpeg:https://wawhite.org/wp-content/uploads/2025/10/Light-2-100.jpg
END:VEVENT
END:VCALENDAR