BEGIN:VCALENDAR
VERSION:2.0
PRODID:-//William Alanson White Institute - ECPv6.0.11//NONSGML v1.0//EN
CALSCALE:GREGORIAN
METHOD:PUBLISH
X-WR-CALNAME:William Alanson White Institute
X-ORIGINAL-URL:https://wawhite.org
X-WR-CALDESC:Events for William Alanson White Institute
REFRESH-INTERVAL;VALUE=DURATION:PT1H
X-Robots-Tag:noindex
X-PUBLISHED-TTL:PT1H
BEGIN:VTIMEZONE
TZID:America/New_York
BEGIN:DAYLIGHT
TZOFFSETFROM:-0500
TZOFFSETTO:-0400
TZNAME:EDT
DTSTART:20220313T070000
END:DAYLIGHT
BEGIN:STANDARD
TZOFFSETFROM:-0400
TZOFFSETTO:-0500
TZNAME:EST
DTSTART:20221106T060000
END:STANDARD
END:VTIMEZONE
BEGIN:VEVENT
DTSTART;TZID=America/New_York:20220329T200000
DTEND;TZID=America/New_York:20220329T213000
DTSTAMP:20260420T143647
CREATED:20230310T195741Z
LAST-MODIFIED:20230313T142917Z
UID:10000053-1648584000-1648589400@wawhite.org
SUMMARY:The Child & Adolescent Psychotherapy Training Program In Person Open House
DESCRIPTION:An In Person Open House at the Institute \nWEDNESDAY EVENING\, MARCH 29th \n8:00-9:30PM \nChildren\, Depression & Family Dynamics: The Impact of Loss\, Language & Love \nA Clinical Presentation by Michelle Silva Nuxoll\, LCSW-R \nSupervisor Tomas Casado-Frankel\, LMFT \n  \nThis presentation will follow the nine month treatment of a six-year-old girl over Zoom. Much of the work took place during her transition from Kindergarten to first grade. Feelings of loss\, separation anxiety and family dynamics will be discussed. \nRefreshments will be served after the presentation. CAPTP faculty\, graduates and current students will be present to answer questions about the Child & Adolescent Psychotherapy Training Program. \n  \nABOUT THE PRESENTER AND SUPERVISOR \nMichelle Silva Nuxoll\, LCSW-R\, is a bilingual psychotherapist in private practice in Bayside\, NY. Prior to her work in private practice she worked as a psychotherapist\, supervisor\, and clinical director at an outpatient community mental health clinic in Queens. Michelle is a 3rd year student in the CAPTP program the Institute. \nTomas Casado-Frankel\, LMFT\, is a graduate of the William Alanson White Institute’s CAPT Program as well as the Psychoanalytic Training Certificate Program. He is also a graduate of the Couples & Family Therapy Program at the Universidad Pontificia Comillas\, Madrid\, Spain. He co-authored Managing the Psychological Aspects of Deportation and Child Custody (with Maria Nardone\, PhD)\,  a chapter in Appleseed’s online manual\, Protecting Assets and Child Custody in the Face of Deportation (2017)\, and Las Lágrimas del Cambio: Trastorno del vínculo\, acompañamiento terapéutico y re-vinculación (with Maria Eugenia Herrero Sotillo\, MD; Triacastela\, 2013)\, a book on attachment disorder and early relational trauma. He is a member of the William Alanson White Institute Center for Public Mental Health.
URL:https://wawhite.org/event/the-child-adolescent-psychotherapy-training-program-in-person-open-house/
LOCATION:The William Alanson White Institute\, 20 West 74th Street\, New York\, NY\, 10024\, United States
CATEGORIES:Modern Layout,Public
END:VEVENT
END:VCALENDAR