BEGIN:VCALENDAR
VERSION:2.0
PRODID:-//William Alanson White Institute - ECPv6.0.11//NONSGML v1.0//EN
CALSCALE:GREGORIAN
METHOD:PUBLISH
X-WR-CALNAME:William Alanson White Institute
X-ORIGINAL-URL:https://wawhite.org
X-WR-CALDESC:Events for William Alanson White Institute
REFRESH-INTERVAL;VALUE=DURATION:PT1H
X-Robots-Tag:noindex
X-PUBLISHED-TTL:PT1H
BEGIN:VTIMEZONE
TZID:America/New_York
BEGIN:DAYLIGHT
TZOFFSETFROM:-0500
TZOFFSETTO:-0400
TZNAME:EDT
DTSTART:20240310T070000
END:DAYLIGHT
BEGIN:STANDARD
TZOFFSETFROM:-0400
TZOFFSETTO:-0500
TZNAME:EST
DTSTART:20241103T060000
END:STANDARD
END:VTIMEZONE
BEGIN:VEVENT
DTSTART;TZID=America/New_York:20240127T100000
DTEND;TZID=America/New_York:20240127T120000
DTSTAMP:20260421T074810
CREATED:20231121T210900Z
LAST-MODIFIED:20240123T193232Z
UID:10000102-1706349600-1706356800@wawhite.org
SUMMARY:Lo que hay en el espacio entre tú y yo. Intersubjetividad: el uso de la experiencia co-construída entre paciente y analista
DESCRIPTION:What Lies in the Space Between You and I?\nINTERSUBJECTIVITY: THE USE OF PATIENT AND ANALYST CO-CONSTRUCTED EXPERIENCE\nA NEW ONLINE LECTURE SERIES FOR SPANISH-SPEAKING PRACTITIONERS\, CANDIDATES AND STUDENTS with consecutive translation from English to Spanish.\nUNA NUEVA SERIE DE CONFERENCIAS EN LÍNEA PARA PRACTICANTES\, CANDIDATOS Y ESTUDIANTES DE HABLA ESPAÑOLA con traducción consecutiva del inglés al españo.\n\nThis series is presented in partnership with the IARPP/Mexico. \nEsta serie se presenta en colaboración con el IARPP/Mexico.\nClasses focus on expanding the analyst’s use of spontaneous subjectivity through associations\, memories and mental images\, and to help in better understanding the patient’s implicit experience.\nLas clases se centran en ampliar el uso de la subjetividad espontánea del analista a través de asociaciones\, recuerdos e imágenes mentales y en ayudar a comprender mejor la experiencia implícita del paciente.\nDesigned for clinicians and students who want to deepen their knowledge of Interpersonal and Relational thinking\, while expanding their understanding of intersubjectivity in clinical practice.\nDiseñado para profesionales y estudiantes que desean profundizar su conocimiento del pensamiento Interpersonal y Relacional\, mientras amplían su comprensión de la intersubjetividad en la práctica clínica.\nWEEKLY CLASSES MEET ON SATURDAYS OVER ZOOM FROM  JANUARY 27TH  –  MARCH 30TH  2024\nLAS CLASES SEMANALES SE LLEVAN A CABO LOS SÁBADOS POR ZOOM DEL 27 DE ENERO AL 30 DE MARZO DE 2024 \nNote that 19 Continuing Education Credits are available for Clinicians who are licensed in the USA and who complete the series. Please request and submit a CE form at the end of the series. \nTenga en cuenta que hay 19 créditos de educación continua disponibles para los clinicos que tienen licencia en los EE. UU. y que completan la serie. Solicite y envíe un formulario CE al final de la serie.\nTHE SEASON’S WEEKLY SCHEDULE/ HORARIO SEMANAL DE LA TEMPORADA:\nSaturday Mornings at 10:00-12:00/Eastern Time\,\n9:00-11:00/CDMX\,\nSaturday Afternoon/Evenings: 16:00-18:00/Spain\,\n15:00-1700 PM/Portugal\n* indicates change of time for Daylight Savings beginning March 16 2024:\n11:00-13:00/Eastern. All others\, please confirm the schedule based on your locale.\n*indica  un cambio debido el horario de verano a partir del 16 de marzo de 2024:\n11:00-13:00/este. Favor de verificar cambios de horario en su localidad.\nCLASS SCHEDULE\, SPEAKERS and TOPICS/\nHORARIO DE CLASES\, PONENTES y TEMAS:\n\n27 JANUARY  2024\nALEJANDRA PLAZA\, PhD\, Welcome/Bienvenida\nHELEN QUINONES\, PhD\, Intersubjectivity – Filling in the Gaps of Dissociation\nIntersubjetividad- Llenando en los espacios de la disociación\n\n3 & 10 FEBRUARY\nDONNEL STERN\, PhD\, Interpretation – Voice of the Field\n“Interpretación- La voz del campo”- presentación de trabajo\n\n17 FEBRUARY  \nALEJANDRA PLAZA\, PhD\, Emotions: A Bridge Between the Implicit\, the Dissociated and Self Agency\nEmociones: Un Puente entre lo implícito\, lo disociado y la agencia\n\n24 FEBRUARY & 2 MARCH   \nSANDRA BUECHLER\, PhD\, The Therapist’s Self Care\nEl autocuidado del terapéuta\n\n9 MARCH & 16 MARCH*\nMARCELO RUBIN\, PhD\, Trauma and Resilience: a Developmental and Clinical Approach\nTrauma y Resiliencia: Un Enfoque Clínico y de Desarrolo\n\n23 MARCH*\nGUDRUN OPITZ\, PhD\, The Collaborative and Integrative Approach of Interpersonal Dream Work\nEl enfoque colaborativo e integrador del trabajo interpersonal de los sueños\n\n30 MARCH*\nGUDRUN OPITZ\, PhD\, One Hour Group Exercise on Dreams HELEN QUINONES\, PhD and ALEJANDRA PLAZA\, PhD\, Class Evaluation Feedback about the Series\nTrabajando con un sueño\, ejercicio grupal de una hora/Evaluación de las conferencias. Retroalimentación de los asistentes\n\nFEES for the Series/CUOTA:\nIARPP Members\, $350 USD\nPractitioners and Clinicians outside of the IARPP\, $385 USD\nCandidates and Students\, $135 USD\n  \nABOUT OUR SPEAKERS \nSandra Buechler\, PhD\, is a Training and Supervising Analyst at the William Alanson White Institute. She is the author of Clinical Values: Emotions that Guide Psychoanalytic Treatment\, (Analytic Press\, 2004)\,  Making a Difference in Patients’ Lives\, (Routledge\, 2008)\, which won the Gradiva Award\, Still Practicing: The Heartaches and Joys of a Clinical Career\, (Routledge\, 2012)\, Understanding and Treating Patients in Clinical Psychoanalysis: Lessons from Literature\, (Routledge\, 2015)  Psychoanalytic Reflections: Training and Practice\, (IPBooks\, 2017) Psychoanalytic Approaches to Problems in Living\, (Routledge\, 2019) and Poetic Dialogues (IPBooks\, 2021).\nAlejandra Plaza Espinosa\, PhD\,  is a psychologist from Universidad Intercontinental (UIC). She has a Master’s in Clinical Psychology from UNAM\, a PhD in Psychoanalytic Research from IIPCS and a Ph.D. in psychoanalysis from UIC. Dr. Plaza has a private practice in Mexico City. She is the former President of IARPP Mexico and a co-founder of the chapter and the Mexican Society of Relational Psychoanalysts. Currently\, she is on the Mexico Chapter’s Board of Directors. She was President of the Institute of Research in Clinical and Social Psychology and was coordinator of the Academic Board of the same Institute. She was a member of the Editorial Committee of Aletheia Journal of Psychology and Psychoanalysis. Together with Dr. Joan Coderch\, she co-authored the book Emotion and Human Relations\, Relational Psychoanalysis as a Social Therapeutic (2016). She has authored many articles and is co-author of other psychoanalytic books. Dr. Plaza has been professor at Universidad Intercontinental\, Universidad del Claustro de Sor Juana\, Universidad de las Américas y Universidad del Valle de México.\nGudrun Opitz\, PhD\, is a Clinical Psychologist and Psychoanalyst in private practice in New York City\, providing individual and group therapy and supervision. Her teaching and groups currently focus on dream work\, and she is a Supervising Analyst at William Alanson’s White Psychoanalytic Institute. She specializes in treating relationship issues\, personality disorders\, addictions\, eating disorders\, and complicated grief.\nHelen Quinones\, PhD\, is a licensed psychologist and psychoanalyst with a private practice in New York City. She is a Psychoanalytic Supervisor and faculty at William Alanson White Institute and is Clinical Consultant at New York University Postdoctoral Program. She has published in Contemporary Psychoanalysis and in the International Federation of Psychoanalytic Society’s Espacio Psicanalitico. Dr.Quinones has been a Presenter at the annual meetings of the American Psychological Association/Division 39\, and the American Orthopsychiatry.\nMarcelo Rubin\, PhD\, is Faculty\, Training and Supervising Analyst at the William Alanson White Institute.  He is the former Director of the Institute’s Child and Adolescent Psychotherapy Training Program and is currently on its faculty. He is the author of numerous articles and has presented often with a focus on culture and trauma. Dr. Rubin is a clinical consultant and private clinical supervisor\, and he maintains a private practice in New York City.\n\nDonnel Stern\, PhD\, is Training and Supervising Analyst at the William Alanson White Institute in New York City and Clinical Professor of Psychology and Clinical Consultant at the NYU Postdoctoral Program in Psychoanalysis and Psychotherapy. He is the Founder and Editor of a book series at Routledge\, Psychoanalysis in a New Key\, which has over 80 books in print. He is the former Editor-in-Chief of the journal Contemporary Psychoanalysis. He has published articles and book chapters for 40 years and has co-edited four books and authored four others\, the most recent of which is The Infinity of the Unsaid: Unformulated Experience\, Language\, and the Nonverbal (Routledge\, 2019). A fifth authored book\, On Coming Into Possession of Oneself: Transformations of the Field\, is in press.  Dr. Stern is in private practice in New York City  and has taught and lectured for many years in this country and abroad.\nThe William Alanson White Institute wishes to thank our partners at IARPP-Mexico. \n 
URL:https://wawhite.org/event/lo-que-hay-en-el-espacio-entre-tu-y-yo-intersubjetividad-el-uso-de-la-experiencia-co-construida-entre-paciente-y-analista/
CATEGORIES:Members Events,Modern Layout,Public
END:VEVENT
BEGIN:VEVENT
DTSTART;TZID=America/New_York:20240201T133000
DTEND;TZID=America/New_York:20240201T150000
DTSTAMP:20260421T074810
CREATED:20240116T172758Z
LAST-MODIFIED:20240116T173357Z
UID:10000109-1706794200-1706799600@wawhite.org
SUMMARY:Embodied Ecology:  Listening in the Space Between Us with Karen Hopenwasser\, MD
DESCRIPTION:PRESENTED BY THE ARTIST STUDY GROUP OF THE PSYCHOTHERAPY SERVICE FOR PEOPLE IN THE ARTS\nTHURSDAY\, FEBRUARY 1st\, 2024 from 1:30-3:00PM/Eastern\nAttend in person or online as follows: \nIn person at the Institute\, 20 West 74th Street\, between CPW & Columbus Avenues \nOnline via Zoom at:  https://wawhite.zoom.us/j/8180152948?pwd=cDkrUTlMSndQendyZzhnc054c0tpQT09 \nPlease RSVP to attend: fvdillon@gmail.com \n  \nABOUT THIS PRESENTATION\nThrough the study of the philosophy of embodied cognition and the teachings of somatic therapies\, we can open the experience of dissociative self-states in our patients and in ourselves.  As a musician and psychiatrist\, Dr. Hopenwasser will describe her awakening to a new way of listening; transforming the passive knowing of information into the mindful awareness she names “dissociative attunement.”  Through clinical material and slides\, she will describe the multi-dimensional\, non-linear flow of information; both in present time and from generation to generation\, highlighting the rhythm of musical encounter.\nThis meeting will explore the complex world we live in\, filled with vibration and resonances we cannot hear but that can emerge through bi-directional rhythmic processes and oscillations in our bodies as resonating chambers.  Join us for a rich presentation and discussion of listening in the space between us.\n  \nABOUT THE SPEAKER\nKaren Hopenwasser\, MD\, graduated from SUNY Stony Brook School of Medicine and specializes in psychiatry.  She is a Clinical Associate Professor of Psychiatry at Weill Cornell Medical College.  Dr. Hopenwasser has written about trauma and dissociation in the psychotherapeutic process and intergenerational transmission of trauma.  Some of her work is published in The Rhythm of Resilience:  A deep ecology of entangled relationality\, J. Salberg and S. Grand (eds)\,  and The Wounds of History:  Repair and Resilience in the Transgenerational Transmission of Trauma\,  Routledge.\n\nFrances V. Dillon\, MSW\, and Eric Dammann\, PhD\, Co-Directors\,  Artist Study Group
URL:https://wawhite.org/event/embodied-ecology-listening-in-the-space-between-us-with-karen-hopenwasser-md/
CATEGORIES:Members Events,Modern Layout,Public
ATTACH;FMTTYPE=image/jpeg:https://wawhite.org/wp-content/uploads/2024/01/Artist-Group-2.1.24-Embodied-Ecology.jpg
END:VEVENT
BEGIN:VEVENT
DTSTART;TZID=America/New_York:20240203T100000
DTEND;TZID=America/New_York:20240203T100000
DTSTAMP:20260421T074810
CREATED:20240111T165426Z
LAST-MODIFIED:20240729T153102Z
UID:10000108-1706954400-1706954400@wawhite.org
SUMMARY:Teleanalytic  Practice for Communities in Times of Social Division and War with Caroline M. Sehon and Harold Kudler
DESCRIPTION:A New Online Series\nHatred\, War\, Displacement\, and Exile: Personal Narratives and Theoretical Perspectives\nPresented by The Technology and Global Learning Committee\nFEBRUARY 3\, 2024\n10:00-11:30 AM/Eastern\nTELEANALYTIC PRACTICE FOR COMMUNITIES IN TIMES OF SOCIAL DIVISION AND WAR\nwith Speakers CAROLINE M. SEHON\, MD\, FABP\, and HAROLD KUDLER\, MD\nand Moderator Maria Nardone\, PhD\n\n\nABOUT THE PRESENTATION\nThis webinar shares lessons learned in the course of a global community outreach project in support of psychotherapists and psychoanalysts practicing under conditions of pandemic and conflict\, including ongoing wars in Ukraine and Russia and between Israel and Hamas.\nIn describing the development and progress of their two-year International Town Hall program\, Drs. Sehon and Kudler will share challenges faced in applying psychoanalytic principles to contain and process personal\, national\, international\, and intergenerational dynamics which both drive group process and\, on occasion\, threaten to confound and overthrow it.\n\n1.5 CE Credits are available \n\n\nABOUT THE SPEAKERS\n\n\n\nHarold Kudler\, MD\, (Durham\, NC\, USA)\, is Associate Consulting Professor of Psychiatry and Behavioral Sciences at Duke University\, Adjunct Professor of Psychiatry at the Uniformed Services University of the Health Sciences\, and until recently\, served as the U.S. Department of Veteran Affairs’ national lead on mental health policy. An expert on psychological trauma\, he writes and speaks internationally about its nature and intergenerational effects. Dr. Kudler co-chairs APsA’s Service Member and Veterans Initiative and is a member of its Committee on Psychoanalysis in the Community and its Social Issues Department.\n\n\n\n\n\nCaroline Sehon\, MD\, FABP\, (Bethesda\, MD\, USA)\, is Clinical Professor of Psychiatry at Georgetown University School of Medicine and Director of the International Psychotherapy Institute (IPI) where she is a supervising child and adult psychoanalyst in IPI’s Child Analytic Program and IPI’s International Institute for Psychoanalytic Training (IIPT) for which she was past chairperson. At the American Psychoanalytic Association\, she is an Executive Committee Director and Chair of the Committee on Psychoanalysis in the Community and Member of its Social Issues Department. Author of articles and book chapters\, Dr. Sehon is in private practice in Bethesda\, Maryland\, USA.\n\n\nABOUT THE MODERATOR\n\n\n\nMaria Nardone\, PhD\, is Faculty and Supervisor of Psychotherapy; Director of Technology and Global Learning; Former Director of the Online Interpersonal Psychoanalytic Psychotherapy Program for Russian Speakers; Former Chair\, Council of Fellows\, and Founding member of the Center for Public Mental Health at the William Alanson White Institute. Dr. Nardone is Co-Chair of American Psychoanalytic Association’s Social Issues Department and a North American Representative to the International Psychoanalytical Association’s Board of Directors. She is Adjunct Associate Professor in Fordham University’s graduate program in Healthcare Administration\, and former Adjunct Clinical Associate Professor\, Director of the Division of Psychological Services in the Department of OB/GYN at S.U.N.Y Downstate Medical Center. She is in private practice in New York City.\n\nLearning Objectives\n\n\n\nAfter attending this session\, participants will be able to:\n\n\nDescribe the development of the International Town Hall project and its application of support for traumatized analytic colleagues working in a climate of war.\n\n\nGive one example of the impact of the International Town Hall project on the clinicians\, their families\, and the patients under their care.
URL:https://wawhite.org/event/teleanalytic-practice-for-communities-in-times-of-social-division-and-war-with-caroline-m-sehon-and-harold-kudler/
CATEGORIES:Members Events,Modern Layout,Public
ATTACH;FMTTYPE=image/jpeg:https://wawhite.org/wp-content/uploads/2023/05/Light-Blue-Background.jpeg
END:VEVENT
END:VCALENDAR