BEGIN:VCALENDAR
VERSION:2.0
PRODID:-//William Alanson White Institute - ECPv6.0.11//NONSGML v1.0//EN
CALSCALE:GREGORIAN
METHOD:PUBLISH
X-WR-CALNAME:William Alanson White Institute
X-ORIGINAL-URL:https://wawhite.org
X-WR-CALDESC:Events for William Alanson White Institute
REFRESH-INTERVAL;VALUE=DURATION:PT1H
X-Robots-Tag:noindex
X-PUBLISHED-TTL:PT1H
BEGIN:VTIMEZONE
TZID:America/New_York
BEGIN:DAYLIGHT
TZOFFSETFROM:-0500
TZOFFSETTO:-0400
TZNAME:EDT
DTSTART:20240310T070000
END:DAYLIGHT
BEGIN:STANDARD
TZOFFSETFROM:-0400
TZOFFSETTO:-0500
TZNAME:EST
DTSTART:20241103T060000
END:STANDARD
BEGIN:DAYLIGHT
TZOFFSETFROM:-0500
TZOFFSETTO:-0400
TZNAME:EDT
DTSTART:20250309T070000
END:DAYLIGHT
BEGIN:STANDARD
TZOFFSETFROM:-0400
TZOFFSETTO:-0500
TZNAME:EST
DTSTART:20251102T060000
END:STANDARD
END:VTIMEZONE
BEGIN:VEVENT
DTSTART;TZID=America/New_York:20241207T120000
DTEND;TZID=America/New_York:20241207T140000
DTSTAMP:20260420T111738
CREATED:20240926T154458Z
LAST-MODIFIED:20241201T132135Z
UID:10000142-1733572800-1733580000@wawhite.org
SUMMARY:How are Sex and Gender Embodied in the Therapeutic  Relationship?
DESCRIPTION:THE 2024-2025 EMBODIMENT SERIES\nWilliam Cornell\, MA; Sarah Schoen\, PhD; Jack Foehl\, PhD; Stacy Berlin PsyD\,\nwith Moderators Doris Brothers\, PhD and Jon Sletvold\, PsyD\nHOW ARE SEX AND GENDER EMBODIED IN THE THERAPEUTIC RELATIONSHIP?\nSATURDAY\, DECEMBER 7th\, 2024\nOnline from 12 Noon – 2:00PM/Eastern\nThis series is presented in collaboration with The Wilhelm Reich Center for the Study of Embodiment.\n2 CONTINUING EDUCATION CREDITS ARE AVAILABLE. Instructions about how to obtain available CEs are sent out to registrants in the entry link email\, prior to the event. If you miss that letter (for late sign-ups)\, you should request CE instructions after the event.\nFor general CE Credit information\, click here\nNOTE TO ALL REGISTRANTS FOR ONLINE EVENTS: We send out entry links for Zoom events 1-3 days prior to the scheduled event date. If you do not see a link-letter in your Inbox\, you should check your Trash and Spam folders. If you have not received your link-letter by the business day prior to the event\, email: e.rodman@wawhite.org \nWe will do whatever we can to get your link to you\, however the Institute is not responsible for your email provider’s security settings. There are no refunds for paid events if a link was sent to you.\n  \nABOUT THIS EVENT\nFrom the earliest beginnings of psychoanalysis\, perceptions of sex and gender have greatly influenced the therapeutic relationship.  Societal upheavals in our world along with the turn toward embodiment have led to significant changes in our understanding of these concepts. Our speakers examine sex and gender in contemporary clinical practice from a variety of perspectives.\n  \nCOSTS\nProfessionals $50\nCandidates and Students $30\n\n  \nABOUT THE SPEAKERS\nSTACY BERLIN\, PsyD\, is a licensed psychologist and psychoanalyst in Studio City\, CA. She is on the Board of Directors for the International Forum for Psychoanalytic Education\, a Guest Editor for the journal Psychoanalytic Inquiry\, an Associate Editor for the journal Psychoanalysis Self and Context\, and an instructor at the Institute of Contemporary Psychoanalysis. In her professional practice\, she takes an egalitarian and contextualist approach within a safe relational framework\, integrating creativity\, play\, and humor.\nWILLIAM CORNELL\, MA\, maintains an independent private practice of psychotherapy and consultation in Pittsburgh\, PA.  He teaches internationally with a primary focus on working with somatic processes and sexuality.  He is a founding faculty member of the recently inaugurated Western Pennsylvania Community for Psychoanalytic Therapies and is the author of Explorations in Transactional Analysis: The Meech Lake Papers\, Somatic Experience in Psychoanalysis and Psychotherapy: In the expressive language of the living\, Self-Examination in Psychoanalysis and Psychotherapy: Countertransference and subjectivity in clinical practice\, At the Interface of Transactional Analysis\, Psychoanalysis\, and Body Psychotherapy: Theoretical and clinical perspectives\, and Une Vie Pour Etre Soi.  He is a co-author and editor of Into TA: A comprehensive textbook\, which have been translated into several languages.  Bill has published numerous articles and book chapters\, many of which have been translated into French\, Italian\, German\, Portuguese\, and Chinese.  Bill edited and introduced books by James T. McLaughlin\, Warren Poland\, Wilma Bucci\, and Maurice Apprey.  An editor of the Transactional Analysis Journal for fifteen years\, he is now the Editor of the Routledge book series\, “Innovations in Transactional Analysis.”  Bill is a recipient of the Eric Berne Memorial Award and the European Association for Transactional Analysis Gold Medal\, in recognition of his writing.\nJACK FOEHL\, PhD\, is past-President of the Boston Psychoanalytic Society & Institute\, where he is Training and Supervising Analyst and is Supervisor and Faculty Member at the Massachusetts Institute for Psychoanalysis. He is Clinical Associate Professor at the NYU Postdoctoral Program in Psychotherapy and Psychoanalysis and is Lecturer at Harvard Medical School. Jack is Joint Editor-in-Chief of Psychoanalytic Dialogues and a past editorial board member of the International Journal of Psychoanalysis. Jack’s recent publications include Playing with Winnicott: Squiggling Through Therapeutic Consultations; The Slap: Playing with Reality in Discussing Trauma in 2022\, and Lived Depth: A Phenomenology of Psychoanalytic Process and Identity in 2020. He integrates Merleau-Ponty’s work on the lived body into a framework for teaching and experiencing psychoanalytic process.\nSARAH SCHOEN\, PhD\, is Faculty\, Supervising\, and Training Analyst at the William Alanson White Institute\, Adjunct Clinical Professor of Psychology at the New York University Postdoctoral Program in Psychotherapy and Psychoanalysis\, and Invited Faculty at the Columbia University Center for Psychoanalytic Training and Research. She is on the editorial board of Contemporary Psychoanalysis\, and she teaches and writes about contemporary perspectives on gender\, narcissism\, and the clinical implications of the relational turn. She is co-editor\, with J. Petrucelli and N. Snider\, of Patriarchy and its Discontents: Psychoanalytic Perspectives (2023). She is in private practice in Manhattan’s Flatiron District.\n\nABOUT THE MODERATORS/CO-DIRECTORS OF THE WILHELM REICH CENTER FOR THE STUDY OF EMBODIMENT\nDORIS BROTHERS\, PhD\, is a co-founder and faculty member of the Training and Research in Intersubjective Self Psychology Foundation (TRISP). She was co-editor with Roger Frie of Psychoanalysis\, Self and Context from 2015-2019 and is an associate editor of Psychoanalytic Inquiry. She serves on the council of the International Association of Psychoanalytic Self Psychology (IAPSP). Doris has published many journal articles and book chapters as well as four books. Her latest book\, written with Jon Sletvold is entitled A New Vision of Psychoanalytic Theory\, Practice and Supervision: TALKING BODIES. Her earlier books are: Toward a Psychology of Uncertainty: Trauma-Centered Psychoanalysis (2008)\, Falling Backwards: An Exploration of Trust and Self-Experience (1995)\, and with Richard Ulman\, The Shattered Self: A Psychoanalytic Study of Trauma (1988). She has presented her work internationally and leads supervision/study groups with Jon Sletvold. She sees patients in private practice in New York and Oslo.\n \nJON SLETVOLD\, PsyD\,  is founding board director and faculty member of the  Norwegian Character Analytic Institute.He has written articles and book chapters on embodiment in psychoanalytic theory\, practice\, and training. He is the editor of four books and the author of The Embodied Analyst: From Freud and Reich to Relationality\, which won the Gradiva Award in 2015.  In 2019 he wrote From Muscular Armor to Bodies in Dialogue with Per Harbitz. His latest book\, written with Doris Brothers is A New Vision of Psychoanalytic Theory\, Practice and Supervision: TALKING BODIES. Dr. Sletvold has presented his work internationally and co-leads online supervision/study groups on embodiment in Europe\, North America and China with Doris Brothers. He practices in Oslo and New York.\nABOUT THE WILHELM REICH CENTER FOR THE STUDY OF EMBODIMENT\nInspired by the pioneering work of Wilhelm Reich and encouraged by the recent surge of interest in embodiment among clinicians\, co-Directors Drs. Doris Brothers and Jon Sletvold have founded the Center. With it\, they are introducing an online forum for dialogues about the ways in which embodiment affects the theory and practice of psychoanalysis and psychotherapy.\nA wide range of approaches to embodiment have emerged in the last two decades that have led them to believe that a “turn toward embodiment” is underway. In the interest of furthering this turn they are offering a format that differs from the usual at psychoanalytic meetings. Rather than featuring a paper presenting a specific theorist or clinician followed by discussions\, they intend that each event will center around a specific topic. Speakers from around the world\, each of whom employs a different perspective on embodiment\, will be invited to participate in a roundtable conversation of the topic. Afterward\, online participants will be encouraged to join the conversation.\nLearn more about The Wilhelm Reich Center for the Study of Embodiment
URL:https://wawhite.org/event/how-are-sex-and-gender-embodied-in-the-therapeutic-relationship/
CATEGORIES:Members Events,Modern Layout,Public
END:VEVENT
BEGIN:VEVENT
DTSTART;TZID=America/New_York:20241211T203000
DTEND;TZID=America/New_York:20241211T220000
DTSTAMP:20260420T111738
CREATED:20241203T170927Z
LAST-MODIFIED:20241203T170948Z
UID:10000150-1733949000-1733954400@wawhite.org
SUMMARY:LGBTQ Study Group - LEXI KOREN
DESCRIPTION:LEXI KOREN \n\n\nThe Global Assault on Youth Gender-Affirming Care: \nHow Opponents Hijacked the Narrative \n\nWednesday\, December 11\, 2024 \n8:30 – 10:00 PM (EST) \n\nOn Zoom only\, RSVP below  \nhttps://wawi.wufoo.com/forms/s1v361i7149pvzz/ \n\n  \nDescription: Over the past five years there has been an unprecedented assault on gender-affirming care for youth across the United States\, Canada\,Western Europe\, and Australia. This talk focuses on the international network of “Gender critical” feminists\, anti-affirming doctors and psychologists\, and the Christian right which have successfully hijacked the narrative around these treatments. It also focuses on how mainstream media in the US and abroad have bought into these narratives and how their coverage has been used to restrict care for this population. \n  \nSpeaker: Lexi Koren has worked in electoral politics and advocacy for over 14 years. She began researching and writing about the assault on youth gender-affirming care in 2022 after seeing the flood of disinformation on the topic and lack of adequate response. She published one of the first articles in the US that interviewed trans people in Sweden and Finland to understand why their countries were restricting trans health care. She writes media criticism of youth gender-affirming care coverage for FAIR\, and her recent piece on the Cass Review was one of the outlet’s top 10 articles of the year. She presented at the US Professional Association for Transgender Health (USPATH) conference in 2023 on the spread of disinformation about adolescent gender affirming care. \n  \n\n\nPlease note: \n\n  \n\nRegistrants will receive the Zoom link to attend this meeting via email from \nThe William Alanson White Institute with subject line: \n“LGBTQ Study Group 2024-2025”. \nLGBTQ Study Group events are not recorded. \nWe are not able to provide CE credits at this time. \nFor inquiries regarding The LGBTQ Study Group please contact the chair\, \nWilla N. France: poetadmiral@earthlink.net
URL:https://wawhite.org/event/lgbtq-study-group/
CATEGORIES:Modern Layout,Public
ATTACH;FMTTYPE=image/jpeg:https://wawhite.org/wp-content/uploads/2023/03/LGBTQ-colors-lines.jpg
END:VEVENT
BEGIN:VEVENT
DTSTART;TZID=America/New_York:20250102T013000
DTEND;TZID=America/New_York:20250102T150000
DTSTAMP:20260420T111738
CREATED:20241223T170653Z
LAST-MODIFIED:20241223T170653Z
UID:10000152-1735781400-1735830000@wawhite.org
SUMMARY:A Shimmering Landscape with Dodi Goldman\, PhD
DESCRIPTION:PRESENTED BY THE ARTIST STUDY GROUP OF THE PSYCHOTHERAPY SERVICE FOR PEOPLE IN THE ARTS\nA Shimmering Landscape: The Imaginative and Actual in Psychic Life\nwith Dodi Goldman\, PhD\nThursday\, January 2nd from 1:30-3:00PM/Eastern\n\nAttend in person or online as follows:\nIn person at the Institute\, 20 West 74th Street\, between CPW & Columbus Avenues\nOnline via Zoom at:\nhttps://wawhite.zoom.us/j/8180152948?pwd=cDkrUTlMSndQendyZzhnc054c0tpQT09 \nPlease be sure to RSVP to attend: fvdillon@gmail.com\n  \nABOUT THIS PRESENTATION\nAcclaimed Winnicott scholar Dodi Goldman will offer us an intriguing account of the psyche’s work of imaginative elaboration. Why does the world feel one way when we are imaginatively alive to it and quite another when we\nare not? How does one both imagine and see things as they are? What happens when we cannot do so? Dr. Goldman will present evocative visual images – a prehistoric figurine\, a Hindu lithograph\, an Italian etching\, an Inuit statue\, a painting by Magritte\, and more-for us to imagine together; revealing unexpected connections and novel insights into what enlivens experience to make the personal landscape shimmer.\n\n  \nABOUT THE SPEAKER\nDr. Dodi Goldman is Training and Supervising Analyst and Faculty at the William Alanson White Institute. His new book is The Shimmering Landscape: The Imaginative and Actual in Psychic Life and his previous books include In Search of the Real and A Beholder’s Share: Essays on Winnicott and the Clinical Imagination\, which won the 2017 Gradiva Award for Best Book in Psychoanalysis.
URL:https://wawhite.org/event/a-shimmering-landscape-with-dodi-goldman-phd/
CATEGORIES:Legacy Layout,Members Events,Public
ATTACH;FMTTYPE=image/jpeg:https://wawhite.org/wp-content/uploads/2024/12/DodiGoldman-e1734973428730.jpg
END:VEVENT
BEGIN:VEVENT
DTSTART;TZID=America/New_York:20250108T203000
DTEND;TZID=America/New_York:20250108T220000
DTSTAMP:20260420T111738
CREATED:20250102T190259Z
LAST-MODIFIED:20250102T190511Z
UID:10000153-1736368200-1736373600@wawhite.org
SUMMARY:LGBTQ Study Group - ADAM GAUBINGER\, LCSW
DESCRIPTION:LGBTQ Study Group of the William Alanson White Institute invites you \nto a candidate case presentation by: \n  \nADAM GAUBINGER\, LCSW \nCompeting Regimes of Truth and the Construction of an “I”: \nPsychoanalysis\, Digital Media\, and Biomedicine in the Case of Jo \n  \nWednesday\, January 8\, 2025 \n8:30 – 10:00 PM (EST) \n\n\n\n\n\n on Zoom only\, RSVP below  \nhttps://wawi.wufoo.com/forms/s1v361i7149pvzz/\n\n\n\n\n  \nPlease Note: Because this will be a presentation of case material\, attendance is limited to Division 1 and CAPTP candidates (current and graduates) and current Online IPPP and Online TOPP students. Please join the meeting 5 minutes before scheduled start time so as not to delay the meeting. The “waiting room” will be open beforehand \nDescription: This presentation explores the case of Jo\, a non-binary trans masculine person with chronic illnesses. It will think about the discordant discourses of selfhood and ways of relating to bodily experiences that Jo draws on as they build a more stable\, true feeling “I”: those in their family and early relationships; those from their engagement with the medical system; and those found in trans and disability communities on social media. These different ways of knowing seem to assist in Jo’s quest to live a survivable life and yet\, at other times\, constrain and defend against a more interpersonal\, psychoanalytic way of experiencing and knowing the self.  \n  \nAdam Gaubinger\, LCSW\, is a clinical social worker in private practice\, where he sees adults and teenagers. He graduated from Smith College School for Social Work in 2017 and is a second-year psychoanalytic candidate at the William Alanson White Institute. His writing draws from queer critique and psychoanalysis to think about technology\, desire\, and processes of subject formation and disintegration.  \n\n\n\nPlease note: \n– Registrants will receive the Zoom link to attend this meeting via email from \nThe William Alanson White Institute with subject line: \n“LGBTQ Study Group 2024-2025”. \n– LGBTQ Study Group events are not recorded. \n– We are not able to provide CE credits at this time.\n\n\n\nFor inquiries regarding The LGBTQ Study Group please contact the chair\, \nWilla N. France: poetadmiral@earthlink.net
URL:https://wawhite.org/event/lgbtq-study-group-adam-gaubinger-lcsw/
CATEGORIES:Modern Layout,Public
END:VEVENT
BEGIN:VEVENT
DTSTART;TZID=America/New_York:20250113T193000
DTEND;TZID=America/New_York:20250113T210000
DTSTAMP:20260420T111738
CREATED:20241003T163513Z
LAST-MODIFIED:20241211T205143Z
UID:10000143-1736796600-1736802000@wawhite.org
SUMMARY:21st Century Children and Adolescents: Clinical Approaches
DESCRIPTION:A new program for professionals of all disciplines and levels of experience\, held online\, starting January 2025.\nEvery generation faces new challenges. Children born in the 21st century are clearly facing unique ones. Consider the events and issues affecting this generation:  September 11\, 2001\, ongoing\, multiple school shootings\, the pervasiveness of the internet and social media\, the expanded use of smart phones\, controversies and issues around nonbinary gender identification\, the MeToo\, Black Lives Matter\, Climate Justice and Trans movements; donor babies (assisted reproduction) and the COVID-19 pandemic – to name a few.\nAs clinicians we are aware that the sociopolitical\, cultural developments\, and traumatic events are shaping the emotional and social lives of the children and adolescents we treat. This program will focus on contemporary clinical topics related to today’s challenges.\n\nTHE SCHEDULE\n10 Classes\, presented online\, on the second Monday of each month from 7:30 to 9:00 pm\nClasses are held in 2025 on the following dates:\nJanuary  13\, February 10 \, March  10\, April  14\,  May 12\, June 9\, (no classes in July or August) September 8\, October 13\,  November  10\, December  8.\n15 CE CREDITS will be available upon completing this course.\n\nTUITION\nEarly Registration pricing: $475 (offered through 1/1/2025 )\nProfessionals\, starting 1/2/2025: $550\nStudents\, Candidates and current attendees of What Really Works: $400\n\nProgram Director: Wendy Panken\, LCSW\n 
URL:https://wawhite.org/event/21st-century-children-and-adolescents-clinical-approaches/
CATEGORIES:Members Events,Modern Layout,Public
ATTACH;FMTTYPE=image/jpeg:https://wawhite.org/wp-content/uploads/2024/10/21st-Century-5325582-copy-scaled.jpg
END:VEVENT
BEGIN:VEVENT
DTSTART;TZID=America/New_York:20250124T193000
DTEND;TZID=America/New_York:20250124T213000
DTSTAMP:20260420T111738
CREATED:20240526T165655Z
LAST-MODIFIED:20250210T183949Z
UID:10000132-1737747000-1737754200@wawhite.org
SUMMARY:Nancy Kulish\, PhD\, A Case of Infantile Trauma and the Question of Resilience
DESCRIPTION:The Colloquium Series of 2024-2025\nPsychoanalytic Synthesis and Innovation in Times of Upheaval\npresented by the Psychoanalytic Society of the William Alanson White Institute\nNANCY KULISH\, PhD\nA CASE OF INFANTILE TRAUMA AND THE QUESTION OF RESILIENCE \nFRIDAY\, JANUARY 24th\, 2025 from 7:30-9:30pm\nAlice Sohn\, PhD\, Moderator\nPresented in person\, on location at the Institute\n20 West 74th Street (between Central Park West & Columbus Avenue)\nSeating for this and all Colloquium events are on a first come\, first serve basis.\n\nABOUT THIS PRESENTATION\nThe author presents a case of early infantile trauma. Experiences of severe neglect during infancy came to life in this woman’s analysis through dramatic bodily experiences on the couch. The case touches upon technical and theoretical questions about the recovery and reconstruction of early\, non-verbal memories and how they arise within the transference/countertransference. Of particular interest are questions that the case raises about psychoanalytic ideas of development and resiliency in surviving early and continuing trauma\, given this woman’s high-level functioning in many areas of her life. The author draws upon Winnicott’s views on the infant’s share in “going-on-being” and argues for a more questioning approach to understanding how individuals overcome and transcend early trauma.\n1.5 CEs are available for attending this presentation. \n\nABOUT THE SPEAKER\nNancy Kulish\, PhD\, is Professor\, Department of Psychiatry\, Wayne State Medical School and Adjunct Professor of Psychology\, University of Detroit/Mercy. She received her psychoanalytic training at the Michigan Psychoanalytic Institute where she was past president and is a Training and Supervising Analyst. Currently she is on the Editorial Boards of the Psychoanalytic Quarterly and the International Journal of Psychoanalysis and serves on the IPA Steering Committee for Working Parties. She has published and presented on topics ranging from female sexuality\, gender\, transference/countertransference\, termination\, and supervision. With Deanna Holtzman\, she is the co-author of A Story of Her Own\, The Female Oedipus Complex Reexamined and Renamed (2008)\, and co-editor of The Clinical Problem of Masochism (2014). She is in private practice in Bloomfield Hills\, Michigan.\n\nABOUT THE MODERATOR\nAlice Sohn\, PhD\, is a Training and Supervising Psychoanalyst\, and faculty at the William Alanson White Institute\, where she is also the Director of Training\, and is Book Review Editor of Contemporary Psychoanalysis. She maintains a private practice on the Upper West Side of Manhattan.\n  \nLearning Objectives: \n\n\nDiscuss how early bodily memories of infantile trauma may be expressed in the transference/countertransference in psychoanalysis\n\n\nEvaluate the factors that may contribute to resilience to early trauma.
URL:https://wawhite.org/event/nancy-kulish-phd-a-case-of-infantile-trauma-and-the-question-of-resilience/
CATEGORIES:Members Events,Modern Layout,Public
ATTACH;FMTTYPE=image/jpeg:https://wawhite.org/wp-content/uploads/2024/08/16x9-9-01-24-No-Text-scaled.jpg
END:VEVENT
END:VCALENDAR