BEGIN:VCALENDAR
VERSION:2.0
PRODID:-//William Alanson White Institute - ECPv6.0.11//NONSGML v1.0//EN
CALSCALE:GREGORIAN
METHOD:PUBLISH
X-ORIGINAL-URL:https://wawhite.org
X-WR-CALDESC:Events for William Alanson White Institute
REFRESH-INTERVAL;VALUE=DURATION:PT1H
X-Robots-Tag:noindex
X-PUBLISHED-TTL:PT1H
BEGIN:VTIMEZONE
TZID:America/New_York
BEGIN:DAYLIGHT
TZOFFSETFROM:-0500
TZOFFSETTO:-0400
TZNAME:EDT
DTSTART:20230312T070000
END:DAYLIGHT
BEGIN:STANDARD
TZOFFSETFROM:-0400
TZOFFSETTO:-0500
TZNAME:EST
DTSTART:20231105T060000
END:STANDARD
END:VTIMEZONE
BEGIN:VEVENT
DTSTART;TZID=America/New_York:20231207T133000
DTEND;TZID=America/New_York:20231207T150000
DTSTAMP:20260424T063202
CREATED:20231114T222914Z
LAST-MODIFIED:20231114T223038Z
UID:10000101-1701955800-1701961200@wawhite.org
SUMMARY:Intimate\, Everyday Beauty before the Fall: Europe 1934\, A Window Back in Time presented by the Artist Group
DESCRIPTION:Intimate\, Everyday Beauty before the Fall: \nEurope 1934\, A Window Back in Time\nDan Scheuer\, Jonathan Scheuer\, and Charles Seton\n\nIntroduction and Discussant:  Jenny Kaufmann\, Ph.D.\nPresented by the Artist Study Group of The Psychotherapy Service for People in the Arts\nThursday\, December 7th from 1:30-3:00PM\nIn person at the Institute\, in the Library\, at 20 West 74th Street (between Columbus & Central Park West)\nor online via Zoom: https://wawhite.zoom.us/j/8180152948?pwd=cDkrUTlMSndQendyZzhnc054c0tpQT09\nWe will discuss Richard H Scheuer’s compelling\, candid photographs\, taken in Europe pre-World War II. The restored images are presented as a testament to Scheuer’s talent as a visual storyteller and his insight as a 17-year-old observer. Through an evocative slide show of everyday life in the Jewish Quarter of Warsaw\, the Moscow State Yiddish Theatre\, and scenes of Sarajevo\, among others\, his visuals convey a combination of intimacy and connection with his subjects. In sharing these moments in time\, Dan Scheuer has said\, ”  I can’t bring my Dad back to show him what he accomplished\, but this is the next best thing.”\nAs a study group\, we have the opportunity to explore our own associations\, memories\, feelings and thoughts as witnesses to creative expression through these contextualized visuals. In exploring the implicit\, we will discuss the role visual images play in clinical practice.  Does exposure to new observations magnify the possibility of seeing what is hidden? Or private? And what was not there before?\n\nWe encourage any who are able to attend this meeting in person\, so that they may see the actual portfolio of large exhibition prints for themselves\,  on display in the Institute’s Library for the afternoon.\n  \nDan Scheuer is a photographer and educator based in New Rochelle\, NY. He received an MFA degree in Photography from Pratt Institute  and taught there for 18 years. Since retiring from Pratt he has continued to photograph and produce photography related projects.\n Jonathan Scheuer\, a film and music producer said\, “The poignancy and pain of Warsaw is a given. But it’s important to see the whole trip\, the beauty of the photography as art\, how the life of one person can be apprehended in a single photograph.”\nCharles Seton\, photographer (his photographs appear on the latest Grateful Dead album)\, educator\, archivist and photo restoration specialist\, has been the Scheuer family photographer for over 40 years and has spent the last six years restoring these photographs and preparing them for exhibition.\nJenny Kahn Kaufmann\, Director of Curriculum at WAWI\, teaches classes on Comparative Conceptualizations and Treatment Approaches in Working with Narcissistic Patients\, Transference andCountertransference and The Psychoanalytic Contribution of Jay Greenberg: A Radical “Middle-of-the-Road” Perspective.  She is a lifetime friend of Dan and the Scheuer family.\nYou must RSVP to attend. Please email:  fvdillon@gmail.com\nFrances V. Dillon\, MSW and Eric Dammann\, PhD\, are Co-Directors of the Artist Study Group
URL:https://wawhite.org/event/intimate-everyday-beauty-before-the-fall-europe-1934-a-window-back-in-time-presented-by-the-artist-group/
CATEGORIES:Members Events,Modern Layout,Public
END:VEVENT
END:VCALENDAR